BEGIN:VCALENDAR
VERSION:2.0
PRODID:-//wp-events-plugin.com//7.2.3.1//EN
BEGIN:VEVENT
UID:161@natota.de
DTSTART;TZID=Europe/Berlin:20250321T180000
DTEND;TZID=Europe/Berlin:20250321T210000
DTSTAMP:20250316T171638Z
URL:https://natota.de/termine/lerne-dich-kennen-2
SUMMARY:Lerne Dich kennen
DESCRIPTION:Ein offener Abend für alle die gerne mehr im eigenen Bewusstse
 in leben wollen. \n\nIch werde diesen Abend nicht immer alleine kreieren.\
 n\nKomm mit\, auf eine Reise zu Dir\, lerne dich wirklich kennen.\nWir kö
 nnen über Körperarbeit\, Berührungs- Sequenzen\, Bewegung und Atemthera
 pie tief in Uns ein tauchen und herausfinden\, was wir mögen/ brauchen od
 er auch nicht\, um uns so richtig wohl im Alltag zu fühlen.\n\nBringe bit
 te lockere Bewegungskleidung und eine Trinkflasche mit\, Umkleideraum vorh
 anden.\nTee/ Wasser werden gereicht.\n\nWo: Köln-Dünnwald Wann: Fr. 18:0
 0-21:00 aktuelle Termine findest du unter www.natota.de\ngenaue Adresse gi
 bt es bei schriftl. Anmeldung unter info@natota.de\nEnergieausgleich 30€
 -45€ pro Abend \n\nSolltest du Fragen haben\, scheue Dich nicht mich zu 
 kontaktieren\, ich freue mich auf unser Gespräch...\nHerzens Gruß\nTanja
 \nNaToTa\n
ATTACH;FMTTYPE=image/jpeg:https://natota.de/wp-content/uploads/2025/01/202
 20331_173028-scaled.jpg
CATEGORIES:aktive
 Meditation,Atmen,Berührungsfrequenzen,Bewusstsein,Körperarbeit,Rituale,S
 elbsterfahrung
LOCATION:Köln-Dünnwald\, wird bei Anmeldung bekannt gegeben\, Köln- Dün
 nwald\, NRW\, Deutschland
X-APPLE-STRUCTURED-LOCATION;VALUE=URI;X-ADDRESS=wird bei Anmeldung bekannt 
 gegeben\, Köln- Dünnwald\, NRW\, Deutschland;X-APPLE-RADIUS=100;X-TITLE=
 Köln-Dünnwald:geo:0,0
END:VEVENT
BEGIN:VTIMEZONE
TZID:Europe/Berlin
X-LIC-LOCATION:Europe/Berlin
BEGIN:STANDARD
DTSTART:20241027T020000
TZOFFSETFROM:+0200
TZOFFSETTO:+0100
TZNAME:CET
END:STANDARD
END:VTIMEZONE
END:VCALENDAR