BEGIN:VCALENDAR
VERSION:2.0
PRODID:-//wp-events-plugin.com//7.2.3.1//EN
BEGIN:VEVENT
UID:163@natota.de
DTSTART;TZID=Europe/Berlin:20250523T180000
DTEND;TZID=Europe/Berlin:20250523T210000
DTSTAMP:20250424T175923Z
URL:https://natota.de/termine/lerne-dich-kennen-4
SUMMARY:Lerne Dich kennen
DESCRIPTION:Ein offener Abend für alle die gerne mehr im eigenen Bewusstse
 in leben wollen. \n\nIch werde diesen Abend nicht immer alleine kreieren.\
 n\nFinde herraus: Wer bist Du? Was magst Du? Weißt Du wie Du tickst?\n\nK
 omm mit\, auf eine Reise zu Dir\, lerne dich wirklich kennen. Über Körpe
 rarbeit\, Berührungs- Sequenzen\, Bewegung und Atemtherapie tauchen wir t
 ief in Uns ein und stellen uns dem was sich zeigt.\nBringe bitte lockere B
 ewegungskleidung mit\, Umkleideraum vorhanden.\nTee/ Wasser werden gereich
 t.\n\nWo: Köln-Dünnwald\, genaue Adresse gibt es bei schriftl. Anmeldung
  unter www.natota.de\n\nEnergieausgleich 30€-45€ pro Abend \n\nSolltes
 t du Fragen haben\, scheue Dich nicht mich zu kontaktieren\, ich freue mic
 h auf unser Gespräch...\n\n\nHerzens Gruß\n\nTanja\nNaToTa
ATTACH;FMTTYPE=image/jpeg:https://natota.de/wp-content/uploads/2025/04/Ler
 ne-dich-kennen-Flyer-1.jpg
CATEGORIES:aktive
 Meditation,Atmen,Berührungsfrequenzen,Bewusstsein,Körperarbeit,Rituale,S
 elbsterfahrung
LOCATION:Köln-Dünnwald\, wird bei Anmeldung bekannt gegeben\, Köln- Dün
 nwald\, NRW\, Deutschland
X-APPLE-STRUCTURED-LOCATION;VALUE=URI;X-ADDRESS=wird bei Anmeldung bekannt 
 gegeben\, Köln- Dünnwald\, NRW\, Deutschland;X-APPLE-RADIUS=100;X-TITLE=
 Köln-Dünnwald:geo:0,0
END:VEVENT
BEGIN:VTIMEZONE
TZID:Europe/Berlin
X-LIC-LOCATION:Europe/Berlin
BEGIN:DAYLIGHT
DTSTART:20250330T030000
TZOFFSETFROM:+0100
TZOFFSETTO:+0200
TZNAME:CEST
END:DAYLIGHT
END:VTIMEZONE
END:VCALENDAR