BEGIN:VCALENDAR
VERSION:2.0
PRODID:-//wp-events-plugin.com//7.2.3.1//EN
BEGIN:VEVENT
UID:165@natota.de
DTSTART;TZID=Europe/Berlin:20250919T180000
DTEND;TZID=Europe/Berlin:20250919T210000
DTSTAMP:20250424T180056Z
URL:https://natota.de/termine/lerne-dich-kennen-6
SUMMARY:Lerne Dich kennen
DESCRIPTION:Ein offener Abend für alle die gerne mehr im eigenen Bewusstse
 in leben wollen. \n\nIch werde diesen Abend nicht immer alleine kreieren\,
  an diesem Freitag\, ist Georg mit an Bord.\n\nFinde herraus: Wer bist Du?
  Was magst Du? Weißt Du wie Du tickst?\n\nKomm mit\, auf eine Reise zu Di
 r\, lerne dich wirklich kennen. Über Körperarbeit\, Berührungs- Sequenz
 en\, Bewegung und Atemtherapie tauchen wir tief in Uns ein und stellen uns
  dem was sich zeigt.\nBringe bitte lockere Bewegungskleidung mit\, Umkleid
 eraum vorhanden.\nTee/ Wasser werden gereicht.\n\nWo: Köln-Dünnwald\, ge
 naue Adresse gibt es bei schriftl. Anmeldung unter www.natota.de\n\nEnergi
 eausgleich 30€-45€ pro Abend \n\nSolltest du Fragen haben\, scheue Dic
 h nicht mich zu kontaktieren\, ich freue mich auf unser Gespräch...\n\n\n
 Herzens Gruß\n\nTanja\nNaToTa
ATTACH;FMTTYPE=image/jpeg:https://natota.de/wp-content/uploads/2025/04/Ler
 ne-dich-kennen-Flyer.jpg
CATEGORIES:aktive
 Meditation,Atmen,Berührungsfrequenzen,Bewusstsein,Körperarbeit,Rituale,S
 elbsterfahrung
LOCATION:Köln-Dünnwald\, wird bei Anmeldung bekannt gegeben\, Köln- Dün
 nwald\, NRW\, Deutschland
X-APPLE-STRUCTURED-LOCATION;VALUE=URI;X-ADDRESS=wird bei Anmeldung bekannt 
 gegeben\, Köln- Dünnwald\, NRW\, Deutschland;X-APPLE-RADIUS=100;X-TITLE=
 Köln-Dünnwald:geo:0,0
END:VEVENT
BEGIN:VTIMEZONE
TZID:Europe/Berlin
X-LIC-LOCATION:Europe/Berlin
BEGIN:DAYLIGHT
DTSTART:20250330T030000
TZOFFSETFROM:+0100
TZOFFSETTO:+0200
TZNAME:CEST
END:DAYLIGHT
END:VTIMEZONE
END:VCALENDAR