BEGIN:VCALENDAR
VERSION:2.0
PRODID:-//wp-events-plugin.com//7.2.3.1//EN
BEGIN:VEVENT
UID:157@natota.de
DTSTART;TZID=Europe/Berlin:20250906T180000
DTEND;TZID=Europe/Berlin:20250906T203000
DTSTAMP:20250110T114842Z
URL:https://natota.de/termine/offene-trommel-kreistreffen-9
SUMMARY:offene Trommel-/ Kreistreffen
DESCRIPTION:Wir treffen uns seid vielen Jahren schon\, meistens um die Voll
 mondzeit\, zum trommeln in Burscheid/ Umgebung. Im Winter eher drinnen und
  wenn das Wetter es wieder zulässt auch draußen in einer Runde von Herze
 nsmenschen.\nDieser Menschenkreis trifft sich nicht nur zum Trommeln sonde
 rn es wird auch mal gesungen\, getönt\, getanzt oder meditiert\, es ist a
 lles willkommen.\n\nAchtung: Diesmal sind wir am Edersee im Rahmen von ein
 em meiner Wochenendseminaren\, trommeln.\n
ATTACH;FMTTYPE=image/jpeg:https://natota.de/wp-content/uploads/2024/11/Tro
 mmelkreis2024-11-08-um-14.42.21_90aa466d.jpg
CATEGORIES:Atmen,Meditationen,Rituale,Trommeln
LOCATION:Burscheid-Hilgen\, An den Hülsen 17\, Burscheid\, 
X-APPLE-STRUCTURED-LOCATION;VALUE=URI;X-ADDRESS=An den Hülsen 17\, Bursche
 id\, ;X-APPLE-RADIUS=100;X-TITLE=Burscheid-Hilgen:geo:0,0
END:VEVENT
BEGIN:VTIMEZONE
TZID:Europe/Berlin
X-LIC-LOCATION:Europe/Berlin
BEGIN:DAYLIGHT
DTSTART:20250330T030000
TZOFFSETFROM:+0100
TZOFFSETTO:+0200
TZNAME:CEST
END:DAYLIGHT
END:VTIMEZONE
END:VCALENDAR