BEGIN:VCALENDAR
VERSION:2.0
PRODID:-//wp-events-plugin.com//7.2.3.1//EN
BEGIN:VEVENT
UID:168@natota.de
DTSTART;TZID=Europe/Berlin:20250404T180000
DTEND;TZID=Europe/Berlin:20250404T210000
DTSTAMP:20250204T132440Z
URL:https://natota.de/termine/offener-frauenkreis-2
SUMMARY:offener Frauenkreis
DESCRIPTION:Wir möchten mit Euch über Themen der Weiblichkeit in der heut
 igen Zeit sprechen. Alle von uns tragen gesellschaftliche und familiäre P
 rägungen / Konditionierungen / Glaubenssätze in uns\, die seit Generatio
 nen weiter gegeben wurden. Wir möchten Euch einen Raum öffnen\, in dem e
 s keine TABU-Themen  mehr gibt\, wenn Ihr das möchtet.\n\nOb es die unter
 schiedlichen Lebensabschnitte einer Frau sind oder das sich alles ändert\
 , wenn die Kinder aus dem Haus sind\, auch gesundheitliche Themen die Frau
 en auf so unterschiedlicher Weise betreffen können\, sind als Thema herzl
 ich eingeladen.\n\nEs werden verschiedene Themenbereiche vorgestellt\, die
  Wir uns vorstellen mit Euch und mit unterschiedlichen Körper-Übungen\, 
 oder in einem Gesprächskreis tiefer zu ergründen.\n\nAn diesem Abend wer
 den wir uns dem Thema:\n\n"Ich fühle mich durch die Wechseljahre aus dem 
 Gleichgewicht gebracht."\nWir schaffen einen Raum für Austausch und Unter
 stützung\, um Ängste abzubauen und neue Kraftquellen zu entdecken\, die 
 uns durch diese Phase tragen.\n\n\nKosten: Es wäre schön einen Wertschä
 tzungsbeitrag auf Spendenbasis zu erhalten.\n\nWir freuen uns auf die Aben
 de mit Dir im Kreis der Frauen und versprechen\, daß es eine tolle Reise 
 zu Dir selbst wird!\n\nMit Herzensgrüßen\nTanja & Tatjana\n\n\n\n 
ATTACH;FMTTYPE=image/jpeg:https://natota.de/wp-content/uploads/2024/10/Tan
 ja-Tatjana-e1728912819803.jpg
CATEGORIES:Atmen,Bewusstsein,Frauenkreise,Körperarbeit,Meditationen,Selbs
 terfahrung,tanzen
LOCATION:Köln-Dünnwald\, wird bei Anmeldung bekannt gegeben\, Köln- Dün
 nwald\, NRW\, Deutschland
X-APPLE-STRUCTURED-LOCATION;VALUE=URI;X-ADDRESS=wird bei Anmeldung bekannt 
 gegeben\, Köln- Dünnwald\, NRW\, Deutschland;X-APPLE-RADIUS=100;X-TITLE=
 Köln-Dünnwald:geo:0,0
END:VEVENT
BEGIN:VTIMEZONE
TZID:Europe/Berlin
X-LIC-LOCATION:Europe/Berlin
BEGIN:DAYLIGHT
DTSTART:20250330T030000
TZOFFSETFROM:+0100
TZOFFSETTO:+0200
TZNAME:CEST
END:DAYLIGHT
END:VTIMEZONE
END:VCALENDAR