BEGIN:VCALENDAR
VERSION:2.0
PRODID:-//wp-events-plugin.com//7.2.3.1//EN
BEGIN:VEVENT
UID:172@natota.de
DTSTART;TZID=Europe/Berlin:20250606T180000
DTEND;TZID=Europe/Berlin:20250609T140000
DTSTAMP:20250316T171820Z
URL:https://natota.de/termine/pfingst-camp-im-naturschutzgebiet-kellerwald
 -edertal
SUMMARY:Pfingst Camp "zurück zu deinen Wurzeln" mit Schwitzhütte im Kelle
 rwald Edertal
DESCRIPTION:Selbstversorger-Outdoorecamp \n\ndie Mahlzeiten werden wir geme
 insam herrichten/zubereiten und gemeinsam Essen. Wir haben vor Ort "KEINEN
  STROM" wir haben eine große Grillhütte als zentralen Küchenplatz mit F
 euerstelle Grills und Gaskocher zur verfügung. Zwei große Rundzelte stel
 le ich auf\, falls das Wetter nicht ganz mit spielen sollte. Ansonsten ist
  Zelten Campen angesagt. Ich habe zwei Tunnelzelte für Leute ohne Zelt\, 
 die ich zur verfügung stelle bei Interesse bitte bei mir melden.\nEs gibt
  begrenzte Stellplätze für Bus/Camper. PKW kann begrenzt mit auf das Gel
 ände gestellt werden. \nTrink-Wasser haben wir in Kanister zur verfügung
 . Für die Menschlichen Bedürfnisse sind zwei Plumsklos vor Ort\, 2x Sola
 rdusche\, Feuerstellen und Grills um das Essen zubereiten zu können.\n\nD
 ie Weidenruten sind schon geschnitten/entastet und soweit vorbereitet\, St
 eine für die Schwitzhütte habe ich auch schon. Wer hätte einen Hänger?
  für den Transport/ Hängerkuplung vorhanden.\;-)\n\nGesucht wird noch je
 mand der Gitarre spielen kann\, BITTE bei mir melden!!!\n\nGeplant sind:\n
 \nFreitag ab 14:00 Uhr Anreise\nLagereinrichtung\nBegrüßung/Essen/ Abend
 runde/ Lagerfeuer/ singen\n\n\nSamstag ein Medicinwalk am Morgen\nFrühst
 ück/Vorbereitung Steine\, Feuer\, usw. & Schwitzhütte/Essen/ Lagerfeuer\
 n\nSonntag Meridianyoga oder Herzmeditation am Morgen\nFrühstück/ Schwit
 zhütte abdecken usw./ Chilltime\, Wandern\, Baumwipfelpfad oder Kanutoure
 = 15\,-€ zuzüglich! Bitte bei Anmeldung mit buchen. \n\nMontag Atemmedi
 tation am Morgen\nFrühstück/ Vormittagsfrequenz/ Abschlussrunde/ Mittage
 ssen/ Ende ca. 14:00/ Lager abbauen\, \n\nCampkosten für das gesamte Pfin
 gst-Wochenende Fr.-Mo.:\n\nFrühbucher bis Ostermontag zahlen bei schriftl
 .Anmeldung 200€ pro Person / Paare 360€\nNormalpreis 240€ pro Person
 / Paare 400€ bei schriftl. Anmeldung\nfür beide Anmeldeformen gilt eine
  Anzahlung von 100€ nach schriftlicher Anmeldung\, du erhälts eine Besc
 hätigungsmail vom mir mit meiner Bankverbindung. Nach Zahlungeingang erh
 älst du von mir eine Teilnehmerbestätigung und Mitbringliste. Der Restbe
 trag wird bar vor Ort bezahlt.\n\nAnkommen am Freitag ab 14:00 Uhr Campauf
 bau\n\nStart am Fr. ca.18:00 Uhr\nProgrammende Montag ca.14:00 Uhr\nAbreis
 e Montag \n\n
ATTACH;FMTTYPE=image/jpeg:https://natota.de/wp-content/uploads/2023/10/IMA
 GE-2023-10-30-093015.jpg
CATEGORIES:Atmen,Bewusstsein,Gesprächskreis,Körperarbeit,Meditationen,Ou
 tdoor,Rituale,Schwitzhütte,Selbsterfahrung,tanzen,Trommel-Feuer,Wald
LOCATION:Zelt-Camp Nähe Edersee\, Natuschutzgebiet Kellerwald\, Affoldern\
 , Hessen\, 34549\, Edertal\, Deutschland
X-APPLE-STRUCTURED-LOCATION;VALUE=URI;X-ADDRESS=Natuschutzgebiet Kellerwald
 \, Affoldern\, Hessen\, 34549\, Edertal\, Deutschland;X-APPLE-RADIUS=100;X
 -TITLE=Zelt-Camp Nähe Edersee:geo:0,0
END:VEVENT
BEGIN:VTIMEZONE
TZID:Europe/Berlin
X-LIC-LOCATION:Europe/Berlin
BEGIN:DAYLIGHT
DTSTART:20250330T030000
TZOFFSETFROM:+0100
TZOFFSETTO:+0200
TZNAME:CEST
END:DAYLIGHT
END:VTIMEZONE
END:VCALENDAR