BEGIN:VCALENDAR
VERSION:2.0
PRODID:-//wp-events-plugin.com//7.2.3.1//EN
BEGIN:VEVENT
UID:182@natota.de
DTSTART;TZID=Europe/Berlin:20260315T140000
DTEND;TZID=Europe/Berlin:20260315T190000
DTSTAMP:20251230T193037Z
URL:https://natota.de/termine/sunday-soul-senses-sauna-der-sinne
SUMMARY:Sunday Soul & Senses = Sauna der Sinne
DESCRIPTION:Sinfonie der Sinne = Warm up & touch\nLust einfach mal in nette
 r Runde zu entspannen?\nWir werden an den vier Sonntagen von 14.00-19.00 i
 n einem Feld von Erholung eintauchen. Es wird zu Beginn eine kleine Medita
 tion geben\, damit wir ganz bei uns und im Raum ankommen können.\nIn eine
 m zusammen Spiel von Sauna/ Pausen-Berührungsfrequenzen\, werden wir die 
 Welt der Sinne mit allen Rezeptoren genießen und erleben können. Lass di
 ch fallen in der Sinfonie der Sinne\, um mit neuer Energie in die nächste
  Woche starten zu können.\nDer Veranstaltungsort ist in Köln\, die genau
 e Adresse bekommst Du mit Deiner Anmeldebestätigung. Bitte bringe dir fü
 r den Tag eine Trinkflasche\, genügend Handtücher\, Saunatuch\, Lunghi u
 nd gute Laune mit. \nIch freue mich auf ein paar sehr schöne entspannte M
 omente mit Euch\nDer Energetische Ausgleich beträgt je Sonntag € 35\,-/
 45\,- im Ermessen des Teilnehmers\n
ATTACH;FMTTYPE=image/jpeg:https://natota.de/wp-content/uploads/2025/12/Sau
 na-der-Sinne-Bild.jpg
CATEGORIES:Berührungsfrequenzen,Bewusstsein,Meditationen,Sauna,Selbsterfa
 hrung
LOCATION:Köln-Dünnwald\, wird bei Anmeldung bekannt gegeben\, Köln- Dün
 nwald\, NRW\, Deutschland
X-APPLE-STRUCTURED-LOCATION;VALUE=URI;X-ADDRESS=wird bei Anmeldung bekannt 
 gegeben\, Köln- Dünnwald\, NRW\, Deutschland;X-APPLE-RADIUS=100;X-TITLE=
 Köln-Dünnwald:geo:0,0
END:VEVENT
BEGIN:VTIMEZONE
TZID:Europe/Berlin
X-LIC-LOCATION:Europe/Berlin
BEGIN:STANDARD
DTSTART:20251026T020000
TZOFFSETFROM:+0200
TZOFFSETTO:+0100
TZNAME:CET
END:STANDARD
END:VTIMEZONE
END:VCALENDAR