BEGIN:VCALENDAR
VERSION:2.0
PRODID:-//wp-events-plugin.com//7.2.3.1//EN
BEGIN:VEVENT
UID:129@natota.de
DTSTART;TZID=Europe/Berlin:20240927T160000
DTEND;TZID=Europe/Berlin:20240929T163000
DTSTAMP:20240110T160648Z
URL:https://natota.de/termine/zurueck-zu-deinen-wurzeln-2
SUMMARY:Zurück zu den Wurzeln
DESCRIPTION:Mein Assistent Georg Richarz und ich möchten mit Euch\, an die
 sem Wochenende durch verschiedene\, Körper- Wahrnehmungsübungen\, aktive
  Meditationen\, Yoga\, Medicinwalk\, Trommelkeis\, Atemsitzung & Rituale\,
  in Kontakt mit Uns und Mutter Erde gehen.
ATTACH;FMTTYPE=image/jpeg:https://natota.de/wp-content/uploads/2023/10/IMA
 GE-2023-10-30-093015.jpg
CATEGORIES:Outdoor
LOCATION:Zelt-Camp Nähe Edersee\, Natuschutzgebiet Kellerwald\, Affoldern\
 , Hessen\, 34549\, Edertal\, Deutschland
X-APPLE-STRUCTURED-LOCATION;VALUE=URI;X-ADDRESS=Natuschutzgebiet Kellerwald
 \, Affoldern\, Hessen\, 34549\, Edertal\, Deutschland;X-APPLE-RADIUS=100;X
 -TITLE=Zelt-Camp Nähe Edersee:geo:0,0
END:VEVENT
BEGIN:VTIMEZONE
TZID:Europe/Berlin
X-LIC-LOCATION:Europe/Berlin
BEGIN:DAYLIGHT
DTSTART:20240331T030000
TZOFFSETFROM:+0100
TZOFFSETTO:+0200
TZNAME:CEST
END:DAYLIGHT
END:VTIMEZONE
END:VCALENDAR